BEGIN:VCALENDAR
VERSION:2.0
PRODID:spatie/icalendar-generator
DESCRIPTION:Events from Bridger Creek Golf Course
X-WR-CALDESC:Events from Bridger Creek Golf Course
REFRESH-INTERVAL;VALUE=DURATION:PT1440M
X-PUBLISHED-TTL:PT1440M
BEGIN:VTIMEZONE
TZID:Etc/GMT+0
BEGIN:STANDARD
DTSTART:20241028T083000Z
TZOFFSETFROM:+0000
TZOFFSETTO:+0000
END:STANDARD
END:VTIMEZONE
BEGIN:VTIMEZONE
TZID:UTC
BEGIN:STANDARD
DTSTART:20250725T085357Z
TZOFFSETFROM:+0000
TZOFFSETTO:+0000
END:STANDARD
END:VTIMEZONE
BEGIN:VEVENT
UID:16-14
DTSTAMP:20260421T085357Z
SUMMARY:Williams Plumbing  Shotgun
LOCATION:
ORGANIZER;CN=Ward Woods:MAILTO:wardwoods1@gmail.com
DTSTART;TZID=Etc/GMT+0:20250725T083000
DTEND;TZID=Etc/GMT+0:20250725T131500
X-ALT-DESC;FMTTYPE=TEXT/HTML:Williams Plumbing Shotgun Tee times available 
 at 1:30.
CATEGORIES:General
URL;VALUE=URI:https://bridgercreek.com/mc-events/williams-plumbing-shotgun/
METHOD:PUBLISH
END:VEVENT
END:VCALENDAR