BEGIN:VCALENDAR
VERSION:2.0
PRODID:spatie/icalendar-generator
DESCRIPTION:Events from Bridger Creek Golf Course
X-WR-CALDESC:Events from Bridger Creek Golf Course
REFRESH-INTERVAL;VALUE=DURATION:PT1440M
X-PUBLISHED-TTL:PT1440M
BEGIN:VTIMEZONE
TZID:Etc/GMT+0
BEGIN:STANDARD
DTSTART:20241215T083000Z
TZOFFSETFROM:+0000
TZOFFSETTO:+0000
END:STANDARD
END:VTIMEZONE
BEGIN:VTIMEZONE
TZID:UTC
BEGIN:STANDARD
DTSTART:20250727T090447Z
TZOFFSETFROM:+0000
TZOFFSETTO:+0000
END:STANDARD
END:VTIMEZONE
BEGIN:VEVENT
UID:44-40
DTSTAMP:20260423T090447Z
SUMMARY:GAR
LOCATION:
ORGANIZER;CN=Jon Mcaleer:MAILTO:jonmcaleer@gmail.com
DTSTART;TZID=Etc/GMT+0:20250911T083000
DTEND;TZID=Etc/GMT+0:20250911T133000
X-ALT-DESC;FMTTYPE=TEXT/HTML:8:30am shotgun start. Public times will begin 
 at approximately 1:30pm that afternoon\, range is OK.
CATEGORIES:General
URL;VALUE=URI:https://bridgercreek.com/mc-events/gar/
METHOD:PUBLISH
END:VEVENT
END:VCALENDAR