BEGIN:VCALENDAR
VERSION:2.0
PRODID:spatie/icalendar-generator
DESCRIPTION:Events from Bridger Creek Golf Course
X-WR-CALDESC:Events from Bridger Creek Golf Course
REFRESH-INTERVAL;VALUE=DURATION:PT1440M
X-PUBLISHED-TTL:PT1440M
BEGIN:VTIMEZONE
TZID:Etc/GMT+0
BEGIN:STANDARD
DTSTART:20241118T110000Z
TZOFFSETFROM:+0000
TZOFFSETTO:+0000
END:STANDARD
END:VTIMEZONE
BEGIN:VTIMEZONE
TZID:UTC
BEGIN:STANDARD
DTSTART:20250726T145953Z
TZOFFSETFROM:+0000
TZOFFSETTO:+0000
END:STANDARD
END:VTIMEZONE
BEGIN:VEVENT
UID:20-18
DTSTAMP:20260422T145953Z
SUMMARY:Bozeman Chamber Shotgun
LOCATION:
ORGANIZER;CN=Ward Woods:MAILTO:wardwoods1@gmail.com
DTSTART;TZID=Etc/GMT+0:20250815T110000
DTEND;TZID=Etc/GMT+0:20250815T160000
X-ALT-DESC;FMTTYPE=TEXT/HTML:Bozeman Chamber Shotgun Tee times available at
  4pm.
CATEGORIES:General
URL;VALUE=URI:https://bridgercreek.com/mc-events/bozeman-chamber-shotgun/
METHOD:PUBLISH
END:VEVENT
END:VCALENDAR