BEGIN:VCALENDAR
VERSION:2.0
PRODID:spatie/icalendar-generator
DESCRIPTION:Events from Bridger Creek Golf Course
X-WR-CALDESC:Events from Bridger Creek Golf Course
REFRESH-INTERVAL;VALUE=DURATION:PT1440M
X-PUBLISHED-TTL:PT1440M
BEGIN:VTIMEZONE
TZID:Etc/GMT+0
BEGIN:STANDARD
DTSTART:20250815T073000Z
TZOFFSETFROM:+0000
TZOFFSETTO:+0000
END:STANDARD
END:VTIMEZONE
BEGIN:VTIMEZONE
TZID:UTC
BEGIN:STANDARD
DTSTART:20250728T103329Z
TZOFFSETFROM:+0000
TZOFFSETTO:+0000
END:STANDARD
END:VTIMEZONE
BEGIN:VEVENT
UID:77-68
DTSTAMP:20260424T103329Z
SUMMARY:Tuesday Morning Men's League
LOCATION:
ORGANIZER;CN=Jon Mcaleer:MAILTO:jonmcaleer@gmail.com
DTSTART;TZID=Etc/GMT+0:20260512T073000
DTEND;TZID=Etc/GMT+0:20260512T083000
X-ALT-DESC;FMTTYPE=TEXT/HTML:First week of the 2026 Tuesday Morning Men's L
 eague Season. Tee times will begin at 7:30am.
CATEGORIES:General
URL;VALUE=URI:https://bridgercreek.com/mc-events/tuesday-morning-mens-leagu
 e/
METHOD:PUBLISH
END:VEVENT
END:VCALENDAR